BEGIN:VCALENDAR
VERSION:2.0
CALSCALE:GREGORIAN
PRODID:-//Diputació de Barcelona//DibaCMS//EN
BEGIN:VEVENT
UID:23968
DTSTAMP:20260423T000546
DTSTART:20120217T190000
DTEND:20120217T000000
SUMMARY:Xerrada: El joc com a eina d'aprenentatge
LOCATION:
METHOD:PUBLISH
X-WR-CALNAME:e-seu@ajpiera.cat
X-WR-TIMEZONE:Europe/Madrid
DESCRIPTION:Xerrada: El joc com a eina d'aprenentatge
URI:https://www.viladepiera.cat/actualitat/agenda/xerrada-el-joc-com-a-eina-daprenentatge.html
CLASS:PUBLIC
END:VEVENT
END:VCALENDAR
