BEGIN:VCALENDAR
VERSION:2.0
CALSCALE:GREGORIAN
PRODID:-//Diputació de Barcelona//DibaCMS//EN
BEGIN:VEVENT
UID:23970
DTSTAMP:20260423T045302
DTSTART:20120217T000000
DTEND:20120217T000000
SUMMARY:Rua de Carnaval a les escoles
LOCATION:
METHOD:PUBLISH
X-WR-CALNAME:e-seu@ajpiera.cat
X-WR-TIMEZONE:Europe/Madrid
DESCRIPTION:Rua de Carnaval a les escoles

URI:https://www.viladepiera.cat/actualitat/agenda/rua-de-carnaval-a-les-escoles.html
CLASS:PUBLIC
END:VEVENT
END:VCALENDAR
