BEGIN:VCALENDAR
VERSION:2.0
CALSCALE:GREGORIAN
PRODID:-//Diputació de Barcelona//DibaCMS//EN
BEGIN:VEVENT
UID:23993
DTSTAMP:20260422T105651
DTSTART:20120226T100000
DTEND:20120226T000000
SUMMARY:Excursió de Pierenques a Masquefa
LOCATION:
METHOD:PUBLISH
X-WR-CALNAME:e-seu@ajpiera.cat
X-WR-TIMEZONE:Europe/Madrid
DESCRIPTION:Excursió de Pierenques a Masquefa
URI:https://www.viladepiera.cat/actualitat/agenda/23993-excursio-de-pierenques-a-masquefa.html
CLASS:PUBLIC
END:VEVENT
END:VCALENDAR
