BEGIN:VCALENDAR
VERSION:2.0
CALSCALE:GREGORIAN
PRODID:-//Diputació de Barcelona//DibaCMS//EN
BEGIN:VEVENT
UID:23995
DTSTAMP:20260422T145016
DTSTART:20120226T000000
DTEND:20120226T000000
SUMMARY:Festa del Dia d'Andalusia
LOCATION:
METHOD:PUBLISH
X-WR-CALNAME:e-seu@ajpiera.cat
X-WR-TIMEZONE:Europe/Madrid
DESCRIPTION:Festa del Dia d'Andalusia
URI:https://www.viladepiera.cat/actualitat/agenda/festa-del-dia-dandalusia.html
CLASS:PUBLIC
END:VEVENT
END:VCALENDAR
