BEGIN:VCALENDAR
VERSION:2.0
CALSCALE:GREGORIAN
PRODID:-//Diputació de Barcelona//DibaCMS//EN
BEGIN:VEVENT
UID:23998
DTSTAMP:20260422T060659
DTSTART:20120227T200000
DTEND:20120227T200000
SUMMARY:Reunió amb els barris
LOCATION:
METHOD:PUBLISH
X-WR-CALNAME:e-seu@ajpiera.cat
X-WR-TIMEZONE:Europe/Madrid
DESCRIPTION:Reunió amb els barris

URI:https://www.viladepiera.cat/actualitat/agenda/reunio-amb-els-barris.html
CLASS:PUBLIC
END:VEVENT
END:VCALENDAR
