BEGIN:VCALENDAR
VERSION:2.0
CALSCALE:GREGORIAN
PRODID:-//Diputació de Barcelona//DibaCMS//EN
BEGIN:VEVENT
UID:24003
DTSTAMP:20260423T011516
DTSTART:20120228T180000
DTEND:20120228T000000
SUMMARY:Espectacle infantil: Avui és un gran dia
LOCATION:
METHOD:PUBLISH
X-WR-CALNAME:e-seu@ajpiera.cat
X-WR-TIMEZONE:Europe/Madrid
DESCRIPTION:Espectacle infantil: Avui és un gran dia
URI:https://www.viladepiera.cat/actualitat/agenda/espectacle-infantil-avui-es-un-gran-dia.html
CLASS:PUBLIC
END:VEVENT
END:VCALENDAR
