BEGIN:VCALENDAR
VERSION:2.0
CALSCALE:GREGORIAN
PRODID:-//Diputació de Barcelona//DibaCMS//EN
BEGIN:VEVENT
UID:24006
DTSTAMP:20260422T151637
DTSTART:20120228T200000
DTEND:20120228T200000
SUMMARY:Conferència sobre la reforma laboral 2012
LOCATION:
METHOD:PUBLISH
X-WR-CALNAME:e-seu@ajpiera.cat
X-WR-TIMEZONE:Europe/Madrid
DESCRIPTION:Conferència sobre la reforma laboral 2012

URI:https://www.viladepiera.cat/actualitat/agenda/conferencia-sobre-la-reforma-laboral-2012.html
CLASS:PUBLIC
END:VEVENT
END:VCALENDAR
