BEGIN:VCALENDAR
VERSION:2.0
CALSCALE:GREGORIAN
PRODID:-//Diputació de Barcelona//DibaCMS//EN
BEGIN:VEVENT
UID:24011
DTSTAMP:20260423T012614
DTSTART:20120229T070000
DTEND:20120229T000000
SUMMARY:Tall d'aigua: La Venta
LOCATION:
METHOD:PUBLISH
X-WR-CALNAME:e-seu@ajpiera.cat
X-WR-TIMEZONE:Europe/Madrid
DESCRIPTION:Tall d'aigua: La Venta
URI:https://www.viladepiera.cat/actualitat/agenda/24011-tall-daigua-la-venta.html
CLASS:PUBLIC
END:VEVENT
END:VCALENDAR
