BEGIN:VCALENDAR
VERSION:2.0
CALSCALE:GREGORIAN
PRODID:-//Diputació de Barcelona//DibaCMS//EN
BEGIN:VEVENT
UID:24013
DTSTAMP:20260422T121734
DTSTART:20120301T000000
DTEND:20120301T000000
SUMMARY:Inci exposició: El teatre
LOCATION:
METHOD:PUBLISH
X-WR-CALNAME:e-seu@ajpiera.cat
X-WR-TIMEZONE:Europe/Madrid
DESCRIPTION:Inci exposició: El teatre
URI:https://www.viladepiera.cat/actualitat/agenda/inci-exposicio-el-teatre.html
CLASS:PUBLIC
END:VEVENT
END:VCALENDAR
