BEGIN:VCALENDAR
VERSION:2.0
CALSCALE:GREGORIAN
PRODID:-//Diputació de Barcelona//DibaCMS//EN
BEGIN:VEVENT
UID:24015
DTSTAMP:20260422T094315
DTSTART:20120301T000000
DTEND:20120301T000000
SUMMARY:Inici exposició: A dalt el teló
LOCATION:
METHOD:PUBLISH
X-WR-CALNAME:e-seu@ajpiera.cat
X-WR-TIMEZONE:Europe/Madrid
DESCRIPTION:Inici exposició: A dalt el teló
URI:https://www.viladepiera.cat/actualitat/agenda/inici-exposicio-a-dalt-el-telo.html
CLASS:PUBLIC
END:VEVENT
END:VCALENDAR
