BEGIN:VCALENDAR
VERSION:2.0
CALSCALE:GREGORIAN
PRODID:-//Diputació de Barcelona//DibaCMS//EN
BEGIN:VEVENT
UID:24018
DTSTAMP:20260422T125108
DTSTART:20120301T190000
DTEND:20120301T000000
SUMMARY:Premis de la travessa dels Òscar
LOCATION:
METHOD:PUBLISH
X-WR-CALNAME:e-seu@ajpiera.cat
X-WR-TIMEZONE:Europe/Madrid
DESCRIPTION:Premis de la travessa dels Òscar
URI:https://www.viladepiera.cat/actualitat/agenda/24018-premis-de-la-travessa-dels-oscar.html
CLASS:PUBLIC
END:VEVENT
END:VCALENDAR
