BEGIN:VCALENDAR
VERSION:2.0
CALSCALE:GREGORIAN
PRODID:-//Diputació de Barcelona//DibaCMS//EN
BEGIN:VEVENT
UID:24028
DTSTAMP:20260422T100112
DTSTART:20120308T113000
DTEND:20120308T133000
SUMMARY:Sessió de treball per la convivència
LOCATION:
METHOD:PUBLISH
X-WR-CALNAME:e-seu@ajpiera.cat
X-WR-TIMEZONE:Europe/Madrid
DESCRIPTION:Sessió de treball per la convivència
URI:https://www.viladepiera.cat/actualitat/agenda/sessio-de-treball-per-la-convivencia.html
CLASS:PUBLIC
END:VEVENT
END:VCALENDAR
