BEGIN:VCALENDAR
VERSION:2.0
CALSCALE:GREGORIAN
PRODID:-//Diputació de Barcelona//DibaCMS//EN
BEGIN:VEVENT
UID:24035
DTSTAMP:20260422T090215
DTSTART:20120310T083000
DTEND:20120310T203000
SUMMARY:III Trofeu de l'Anoia de Patinatge Artístic
LOCATION:
METHOD:PUBLISH
X-WR-CALNAME:e-seu@ajpiera.cat
X-WR-TIMEZONE:Europe/Madrid
DESCRIPTION:III Trofeu de l'Anoia de Patinatge Artístic
URI:https://www.viladepiera.cat/actualitat/agenda/iii-trofeu-de-lanoia-de-patinatge-artistic.html
CLASS:PUBLIC
END:VEVENT
END:VCALENDAR
