BEGIN:VCALENDAR
VERSION:2.0
CALSCALE:GREGORIAN
PRODID:-//Diputació de Barcelona//DibaCMS//EN
BEGIN:VEVENT
UID:24043
DTSTAMP:20260422T061407
DTSTART:20120316T190000
DTEND:20120316T000000
SUMMARY:Conferència: Controlem l'ansietat
LOCATION:
METHOD:PUBLISH
X-WR-CALNAME:e-seu@ajpiera.cat
X-WR-TIMEZONE:Europe/Madrid
DESCRIPTION:Conferència: Controlem l'ansietat
URI:https://www.viladepiera.cat/actualitat/agenda/conferencia-controlem-lansietat.html
CLASS:PUBLIC
END:VEVENT
END:VCALENDAR
