BEGIN:VCALENDAR
VERSION:2.0
CALSCALE:GREGORIAN
PRODID:-//Diputació de Barcelona//DibaCMS//EN
BEGIN:VEVENT
UID:24045
DTSTAMP:20260422T102221
DTSTART:20120318T100000
DTEND:20120318T000000
SUMMARY:4a Festa de la Forja
LOCATION:
METHOD:PUBLISH
X-WR-CALNAME:e-seu@ajpiera.cat
X-WR-TIMEZONE:Europe/Madrid
DESCRIPTION:4a Festa de la Forja
URI:https://www.viladepiera.cat/actualitat/agenda/24045-4a-festa-de-la-forja.html
CLASS:PUBLIC
END:VEVENT
END:VCALENDAR
