BEGIN:VCALENDAR
VERSION:2.0
CALSCALE:GREGORIAN
PRODID:-//Diputació de Barcelona//DibaCMS//EN
BEGIN:VEVENT
UID:24052
DTSTAMP:20260422T094347
DTSTART:20120322T203000
DTEND:20120322T000000
SUMMARY:Premis del Concurs de Cartells
LOCATION:
METHOD:PUBLISH
X-WR-CALNAME:e-seu@ajpiera.cat
X-WR-TIMEZONE:Europe/Madrid
DESCRIPTION:Premis del Concurs de Cartells
URI:https://www.viladepiera.cat/actualitat/agenda/24052-premis-del-concurs-de-cartells.html
CLASS:PUBLIC
END:VEVENT
END:VCALENDAR
