BEGIN:VCALENDAR
VERSION:2.0
CALSCALE:GREGORIAN
PRODID:-//Diputació de Barcelona//DibaCMS//EN
BEGIN:VEVENT
UID:24054
DTSTAMP:20260422T133221
DTSTART:20120324T080000
DTEND:20120324T000000
SUMMARY:Sortida cultural a la colònia de Cal Vidal
LOCATION:
METHOD:PUBLISH
X-WR-CALNAME:e-seu@ajpiera.cat
X-WR-TIMEZONE:Europe/Madrid
DESCRIPTION:Sortida cultural a la colònia de Cal Vidal
URI:https://www.viladepiera.cat/actualitat/agenda/sortida-cultural-a-la-colonia-de-cal-vidal.html
CLASS:PUBLIC
END:VEVENT
END:VCALENDAR
