BEGIN:VCALENDAR
VERSION:2.0
CALSCALE:GREGORIAN
PRODID:-//Diputació de Barcelona//DibaCMS//EN
BEGIN:VEVENT
UID:24056
DTSTAMP:20260422T105854
DTSTART:20120324T100000
DTEND:20120324T100000
SUMMARY:Taller: Recursos i eines musicals
LOCATION:
METHOD:PUBLISH
X-WR-CALNAME:e-seu@ajpiera.cat
X-WR-TIMEZONE:Europe/Madrid
DESCRIPTION:Taller: Recursos i eines musicals

URI:https://www.viladepiera.cat/actualitat/agenda/taller-recursos-i-eines-musicals.html
CLASS:PUBLIC
END:VEVENT
END:VCALENDAR
