BEGIN:VCALENDAR
VERSION:2.0
CALSCALE:GREGORIAN
PRODID:-//Diputació de Barcelona//DibaCMS//EN
BEGIN:VEVENT
UID:24059
DTSTAMP:20260422T083518
DTSTART:20120325T100000
DTEND:20120325T000000
SUMMARY:Sortida de Pierenques a St. Nicolau del Freixe
LOCATION:
METHOD:PUBLISH
X-WR-CALNAME:e-seu@ajpiera.cat
X-WR-TIMEZONE:Europe/Madrid
DESCRIPTION:Sortida de Pierenques a St. Nicolau del Freixe
URI:https://www.viladepiera.cat/actualitat/agenda/sortida-de-pierenques-a-st-nicolau-del-freixe.html
CLASS:PUBLIC
END:VEVENT
END:VCALENDAR
