BEGIN:VCALENDAR
VERSION:2.0
CALSCALE:GREGORIAN
PRODID:-//Diputació de Barcelona//DibaCMS//EN
BEGIN:VEVENT
UID:24062
DTSTAMP:20260422T155912
DTSTART:20120325T120000
DTEND:20120325T000000
SUMMARY:Inauguració parc La Venta-Can Musarro
LOCATION:
METHOD:PUBLISH
X-WR-CALNAME:e-seu@ajpiera.cat
X-WR-TIMEZONE:Europe/Madrid
DESCRIPTION:Inauguració parc La Venta-Can Musarro
URI:https://www.viladepiera.cat/actualitat/agenda/inauguracio-parc-la-venta-can-musarro.html
CLASS:PUBLIC
END:VEVENT
END:VCALENDAR
