BEGIN:VCALENDAR
VERSION:2.0
CALSCALE:GREGORIAN
PRODID:-//Diputació de Barcelona//DibaCMS//EN
BEGIN:VEVENT
UID:24064
DTSTAMP:20260422T073259
DTSTART:20120326T180000
DTEND:20120326T000000
SUMMARY:Contes a cau d'orella: En Pau i els pèsols de la sort
LOCATION:
METHOD:PUBLISH
X-WR-CALNAME:e-seu@ajpiera.cat
X-WR-TIMEZONE:Europe/Madrid
DESCRIPTION:Contes a cau d'orella: En Pau i els pèsols de la sort
URI:https://www.viladepiera.cat/actualitat/agenda/contes-a-cau-dorella-en-pau-i-els-pesols-de-la-sort.html
CLASS:PUBLIC
END:VEVENT
END:VCALENDAR
