BEGIN:VCALENDAR
VERSION:2.0
CALSCALE:GREGORIAN
PRODID:-//Diputació de Barcelona//DibaCMS//EN
BEGIN:VEVENT
UID:24072
DTSTAMP:20260422T084535
DTSTART:20120328T180000
DTEND:20120328T000000
SUMMARY:Conferència: El procés de dol, com encarar-lo
LOCATION:
METHOD:PUBLISH
X-WR-CALNAME:e-seu@ajpiera.cat
X-WR-TIMEZONE:Europe/Madrid
DESCRIPTION:Conferència: El procés de dol, com encarar-lo
URI:https://www.viladepiera.cat/actualitat/agenda/conferencia-el-proces-de-dol-com-encarar-lo.html
CLASS:PUBLIC
END:VEVENT
END:VCALENDAR
