BEGIN:VCALENDAR
VERSION:2.0
CALSCALE:GREGORIAN
PRODID:-//Diputació de Barcelona//DibaCMS//EN
BEGIN:VEVENT
UID:24074
DTSTAMP:20260422T144312
DTSTART:20120328T190000
DTEND:20120328T000000
SUMMARY:Audició de Setmana Santa
LOCATION:
METHOD:PUBLISH
X-WR-CALNAME:e-seu@ajpiera.cat
X-WR-TIMEZONE:Europe/Madrid
DESCRIPTION:Audició de Setmana Santa
URI:https://www.viladepiera.cat/actualitat/agenda/audicio-de-setmana-santa.html
CLASS:PUBLIC
END:VEVENT
END:VCALENDAR
