BEGIN:VCALENDAR
VERSION:2.0
CALSCALE:GREGORIAN
PRODID:-//Diputació de Barcelona//DibaCMS//EN
BEGIN:VEVENT
UID:24077
DTSTAMP:20260422T074327
DTSTART:20120330T184500
DTEND:20120330T000000
SUMMARY:Club de finances per a no financers
LOCATION:
METHOD:PUBLISH
X-WR-CALNAME:e-seu@ajpiera.cat
X-WR-TIMEZONE:Europe/Madrid
DESCRIPTION:Club de finances per a no financers
URI:https://www.viladepiera.cat/actualitat/agenda/24077-club-de-finances-per-a-no-financers.html
CLASS:PUBLIC
END:VEVENT
END:VCALENDAR
