BEGIN:VCALENDAR
VERSION:2.0
CALSCALE:GREGORIAN
PRODID:-//Diputació de Barcelona//DibaCMS//EN
BEGIN:VEVENT
UID:24079
DTSTAMP:20260422T085258
DTSTART:20120330T190000
DTEND:20120330T000000
SUMMARY:Divendres de cine: La classe
LOCATION:
METHOD:PUBLISH
X-WR-CALNAME:e-seu@ajpiera.cat
X-WR-TIMEZONE:Europe/Madrid
DESCRIPTION:Divendres de cine: La classe
URI:https://www.viladepiera.cat/actualitat/agenda/divendres-de-cine-la-classe.html
CLASS:PUBLIC
END:VEVENT
END:VCALENDAR
