BEGIN:VCALENDAR
VERSION:2.0
CALSCALE:GREGORIAN
PRODID:-//Diputació de Barcelona//DibaCMS//EN
BEGIN:VEVENT
UID:24085
DTSTAMP:20260422T085543
DTSTART:20120401T090000
DTEND:20120401T000000
SUMMARY:6a Marxa Malalts de Bici
LOCATION:
METHOD:PUBLISH
X-WR-CALNAME:e-seu@ajpiera.cat
X-WR-TIMEZONE:Europe/Madrid
DESCRIPTION:6a Marxa Malalts de Bici
URI:https://www.viladepiera.cat/actualitat/agenda/6a-marxa-malalts-de-bici.html
CLASS:PUBLIC
END:VEVENT
END:VCALENDAR
