BEGIN:VCALENDAR
VERSION:2.0
CALSCALE:GREGORIAN
PRODID:-//Diputació de Barcelona//DibaCMS//EN
BEGIN:VEVENT
UID:24089
DTSTAMP:20260422T074627
DTSTART:20120402T153000
DTEND:20120402T000000
SUMMARY:Inici exposició: Sant Crist de Piera
LOCATION:
METHOD:PUBLISH
X-WR-CALNAME:e-seu@ajpiera.cat
X-WR-TIMEZONE:Europe/Madrid
DESCRIPTION:Inici exposició: Sant Crist de Piera
URI:https://www.viladepiera.cat/actualitat/agenda/inici-exposicio-sant-crist-de-piera.html
CLASS:PUBLIC
END:VEVENT
END:VCALENDAR
