BEGIN:VCALENDAR
VERSION:2.0
CALSCALE:GREGORIAN
PRODID:-//Diputació de Barcelona//DibaCMS//EN
BEGIN:VEVENT
UID:24092
DTSTAMP:20260422T063708
DTSTART:20120402T153000
DTEND:20120402T000000
SUMMARY:Inici exposició: Entendre la vida
LOCATION:
METHOD:PUBLISH
X-WR-CALNAME:e-seu@ajpiera.cat
X-WR-TIMEZONE:Europe/Madrid
DESCRIPTION:Inici exposició: Entendre la vida
URI:https://www.viladepiera.cat/actualitat/agenda/24092-inici-exposicio-entendre-la-vida.html
CLASS:PUBLIC
END:VEVENT
END:VCALENDAR
