BEGIN:VCALENDAR
VERSION:2.0
CALSCALE:GREGORIAN
PRODID:-//Diputació de Barcelona//DibaCMS//EN
BEGIN:VEVENT
UID:24094
DTSTAMP:20260422T073853
DTSTART:20120404T153000
DTEND:20120404T000000
SUMMARY:Inici exposició: Llum i color
LOCATION:
METHOD:PUBLISH
X-WR-CALNAME:e-seu@ajpiera.cat
X-WR-TIMEZONE:Europe/Madrid
DESCRIPTION:Inici exposició: Llum i color
URI:https://www.viladepiera.cat/actualitat/agenda/inici-exposicio-llum-i-color.html
CLASS:PUBLIC
END:VEVENT
END:VCALENDAR
