BEGIN:VCALENDAR
VERSION:2.0
CALSCALE:GREGORIAN
PRODID:-//Diputació de Barcelona//DibaCMS//EN
BEGIN:VEVENT
UID:24096
DTSTAMP:20260422T084812
DTSTART:20120408T090000
DTEND:20120408T000000
SUMMARY:Caramelles 2012
LOCATION:
METHOD:PUBLISH
X-WR-CALNAME:e-seu@ajpiera.cat
X-WR-TIMEZONE:Europe/Madrid
DESCRIPTION:Caramelles 2012
URI:https://www.viladepiera.cat/actualitat/agenda/caramelles-2012.html
CLASS:PUBLIC
END:VEVENT
END:VCALENDAR
