BEGIN:VCALENDAR
VERSION:2.0
CALSCALE:GREGORIAN
PRODID:-//Diputació de Barcelona//DibaCMS//EN
BEGIN:VEVENT
UID:24104
DTSTAMP:20260422T102251
DTSTART:20120412T190000
DTEND:20120412T000000
SUMMARY:Qui controla la nostra alimentació?
LOCATION:
METHOD:PUBLISH
X-WR-CALNAME:e-seu@ajpiera.cat
X-WR-TIMEZONE:Europe/Madrid
DESCRIPTION:Qui controla la nostra alimentació?
URI:https://www.viladepiera.cat/actualitat/agenda/qui-controla-la-nostra-alimentacio.html
CLASS:PUBLIC
END:VEVENT
END:VCALENDAR
