BEGIN:VCALENDAR
VERSION:2.0
CALSCALE:GREGORIAN
PRODID:-//Diputació de Barcelona//DibaCMS//EN
BEGIN:VEVENT
UID:24109
DTSTAMP:20260422T052230
DTSTART:20120414T120000
DTEND:20120414T120000
SUMMARY:Homenatge a la II República
LOCATION:
METHOD:PUBLISH
X-WR-CALNAME:e-seu@ajpiera.cat
X-WR-TIMEZONE:Europe/Madrid
DESCRIPTION:Homenatge a la II República

URI:https://www.viladepiera.cat/actualitat/agenda/24109-homenatge-a-la-ii-republica.html
CLASS:PUBLIC
END:VEVENT
END:VCALENDAR
