BEGIN:VCALENDAR
VERSION:2.0
CALSCALE:GREGORIAN
PRODID:-//Diputació de Barcelona//DibaCMS//EN
BEGIN:VEVENT
UID:24113
DTSTAMP:20260422T062738
DTSTART:20120419T184500
DTEND:20120419T000000
SUMMARY:Moviment, ritme i expressió corporal
LOCATION:
METHOD:PUBLISH
X-WR-CALNAME:e-seu@ajpiera.cat
X-WR-TIMEZONE:Europe/Madrid
DESCRIPTION:Moviment, ritme i expressió corporal
URI:https://www.viladepiera.cat/actualitat/agenda/24113-moviment-ritme-i-expressio-corporal.html
CLASS:PUBLIC
END:VEVENT
END:VCALENDAR
