BEGIN:VCALENDAR
VERSION:2.0
CALSCALE:GREGORIAN
PRODID:-//Diputació de Barcelona//DibaCMS//EN
BEGIN:VEVENT
UID:24120
DTSTAMP:20260422T040016
DTSTART:20120420T080000
DTEND:20120420T220000
SUMMARY:Inici exposició col·lectiva de fotografies de Piera
LOCATION:
METHOD:PUBLISH
X-WR-CALNAME:e-seu@ajpiera.cat
X-WR-TIMEZONE:Europe/Madrid
DESCRIPTION:Inici exposició col·lectiva de fotografies de Piera

URI:https://www.viladepiera.cat/actualitat/agenda/inici-exposicio-collectiva-de-fotografies-de-piera.html
CLASS:PUBLIC
END:VEVENT
END:VCALENDAR
