BEGIN:VCALENDAR
VERSION:2.0
CALSCALE:GREGORIAN
PRODID:-//Diputació de Barcelona//DibaCMS//EN
BEGIN:VEVENT
UID:24124
DTSTAMP:20260422T100916
DTSTART:20120421T090000
DTEND:20120421T000000
SUMMARY:Acapte de sang
LOCATION:
METHOD:PUBLISH
X-WR-CALNAME:e-seu@ajpiera.cat
X-WR-TIMEZONE:Europe/Madrid
DESCRIPTION:Acapte de sang
URI:https://www.viladepiera.cat/actualitat/agenda/24124-acapte-de-sang.html
CLASS:PUBLIC
END:VEVENT
END:VCALENDAR
