BEGIN:VCALENDAR
VERSION:2.0
CALSCALE:GREGORIAN
PRODID:-//Diputació de Barcelona//DibaCMS//EN
BEGIN:VEVENT
UID:24129
DTSTAMP:20260422T052208
DTSTART:20120423T180000
DTEND:20120423T000000
SUMMARY:Espectacle infantil: St. Jordi i el senyor Ornitorrinc
LOCATION:
METHOD:PUBLISH
X-WR-CALNAME:e-seu@ajpiera.cat
X-WR-TIMEZONE:Europe/Madrid
DESCRIPTION:Espectacle infantil: St. Jordi i el senyor Ornitorrinc
URI:https://www.viladepiera.cat/actualitat/agenda/espectacle-infantil-st-jordi-i-el-senyor-ornitorrinc.html
CLASS:PUBLIC
END:VEVENT
END:VCALENDAR
