BEGIN:VCALENDAR
VERSION:2.0
CALSCALE:GREGORIAN
PRODID:-//Diputació de Barcelona//DibaCMS//EN
BEGIN:VEVENT
UID:24134
DTSTAMP:20260422T090853
DTSTART:20120426T190000
DTEND:20120426T000000
SUMMARY:Xerrada: Els tràmits en línia
LOCATION:
METHOD:PUBLISH
X-WR-CALNAME:e-seu@ajpiera.cat
X-WR-TIMEZONE:Europe/Madrid
DESCRIPTION:Xerrada: Els tràmits en línia
URI:https://www.viladepiera.cat/actualitat/agenda/xerrada-els-tramits-en-linia.html
CLASS:PUBLIC
END:VEVENT
END:VCALENDAR
