BEGIN:VCALENDAR
VERSION:2.0
CALSCALE:GREGORIAN
PRODID:-//Diputació de Barcelona//DibaCMS//EN
BEGIN:VEVENT
UID:24137
DTSTAMP:20260422T050602
DTSTART:20120426T070000
DTEND:20120426T180000
SUMMARY:Tall d'aigua: Can Martí
LOCATION:
METHOD:PUBLISH
X-WR-CALNAME:e-seu@ajpiera.cat
X-WR-TIMEZONE:Europe/Madrid
DESCRIPTION:Tall d'aigua: Can Martí
URI:https://www.viladepiera.cat/actualitat/agenda/24137-tall-daigua-can-marti.html
CLASS:PUBLIC
END:VEVENT
END:VCALENDAR
