BEGIN:VCALENDAR
VERSION:2.0
CALSCALE:GREGORIAN
PRODID:-//Diputació de Barcelona//DibaCMS//EN
BEGIN:VEVENT
UID:24141
DTSTAMP:20260422T073153
DTSTART:20120427T190000
DTEND:20120427T000000
SUMMARY:Xerrada: El banc del temps
LOCATION:
METHOD:PUBLISH
X-WR-CALNAME:e-seu@ajpiera.cat
X-WR-TIMEZONE:Europe/Madrid
DESCRIPTION:Xerrada: El banc del temps
URI:https://www.viladepiera.cat/actualitat/agenda/xerrada-el-banc-del-temps.html
CLASS:PUBLIC
END:VEVENT
END:VCALENDAR
