BEGIN:VCALENDAR
VERSION:2.0
CALSCALE:GREGORIAN
PRODID:-//Diputació de Barcelona//DibaCMS//EN
BEGIN:VEVENT
UID:24148
DTSTAMP:20260422T051853
DTSTART:20120428T000000
DTEND:20120428T000000
SUMMARY:Diada del Sant Crist (actes religiosos)
LOCATION:
METHOD:PUBLISH
X-WR-CALNAME:e-seu@ajpiera.cat
X-WR-TIMEZONE:Europe/Madrid
DESCRIPTION:Diada del Sant Crist (actes religiosos)

URI:https://www.viladepiera.cat/actualitat/agenda/24148-diada-del-sant-crist-actes-religiosos.html
CLASS:PUBLIC
END:VEVENT
END:VCALENDAR
