BEGIN:VCALENDAR
VERSION:2.0
CALSCALE:GREGORIAN
PRODID:-//Diputació de Barcelona//DibaCMS//EN
BEGIN:VEVENT
UID:24151
DTSTAMP:20260422T052113
DTSTART:20120429T100000
DTEND:20120429T100000
SUMMARY:Excursió: Muntanya pels 4 costats
LOCATION:
METHOD:PUBLISH
X-WR-CALNAME:e-seu@ajpiera.cat
X-WR-TIMEZONE:Europe/Madrid
DESCRIPTION:Excursió: Muntanya pels 4 costats

URI:https://www.viladepiera.cat/actualitat/agenda/excursio-muntanya-pels-4-costats.html
CLASS:PUBLIC
END:VEVENT
END:VCALENDAR
