BEGIN:VCALENDAR
VERSION:2.0
CALSCALE:GREGORIAN
PRODID:-//Diputació de Barcelona//DibaCMS//EN
BEGIN:VEVENT
UID:24161
DTSTAMP:20260422T023741
DTSTART:20120502T000000
DTEND:20120502T000000
SUMMARY:Inici exposició: Els escriptors de la Renaixença
LOCATION:
METHOD:PUBLISH
X-WR-CALNAME:e-seu@ajpiera.cat
X-WR-TIMEZONE:Europe/Madrid
DESCRIPTION:Inici exposició: Els escriptors de la Renaixença
URI:https://www.viladepiera.cat/actualitat/agenda/inici-exposicio-els-escriptors-de-la-renaixenca.html
CLASS:PUBLIC
END:VEVENT
END:VCALENDAR
