BEGIN:VCALENDAR
VERSION:2.0
CALSCALE:GREGORIAN
PRODID:-//Diputació de Barcelona//DibaCMS//EN
BEGIN:VEVENT
UID:24165
DTSTAMP:20260422T035512
DTSTART:20120504T000000
DTEND:20120504T000000
SUMMARY:Inici exposició: Éssers del subconscient i altres motius
LOCATION:
METHOD:PUBLISH
X-WR-CALNAME:e-seu@ajpiera.cat
X-WR-TIMEZONE:Europe/Madrid
DESCRIPTION:Inici exposició: Éssers del subconscient i altres motius
URI:https://www.viladepiera.cat/actualitat/agenda/inici-exposicio-essers-del-subconscient-i-altres-motius.html
CLASS:PUBLIC
END:VEVENT
END:VCALENDAR
