BEGIN:VCALENDAR
VERSION:2.0
CALSCALE:GREGORIAN
PRODID:-//Diputació de Barcelona//DibaCMS//EN
BEGIN:VEVENT
UID:24168
DTSTAMP:20260422T023453
DTSTART:20120505T170000
DTEND:20120505T200000
SUMMARY:XIII Trobada de puntaires de Piera
LOCATION:
METHOD:PUBLISH
X-WR-CALNAME:e-seu@ajpiera.cat
X-WR-TIMEZONE:Europe/Madrid
DESCRIPTION:XIII Trobada de puntaires de Piera
URI:https://www.viladepiera.cat/actualitat/agenda/xiii-trobada-de-puntaires-de-piera.html
CLASS:PUBLIC
END:VEVENT
END:VCALENDAR
