BEGIN:VCALENDAR
VERSION:2.0
CALSCALE:GREGORIAN
PRODID:-//Diputació de Barcelona//DibaCMS//EN
BEGIN:VEVENT
UID:24170
DTSTAMP:20260422T063632
DTSTART:20120505T000000
DTEND:20120505T000000
SUMMARY:II Fase d'Inteclubs-zona 2 (patinatge artístic)
LOCATION:
METHOD:PUBLISH
X-WR-CALNAME:e-seu@ajpiera.cat
X-WR-TIMEZONE:Europe/Madrid
DESCRIPTION:II Fase d'Inteclubs-zona 2 (patinatge artístic)
URI:https://www.viladepiera.cat/actualitat/agenda/ii-fase-dinteclubs-zona-2-patinatge-artistic.html
CLASS:PUBLIC
END:VEVENT
END:VCALENDAR
