BEGIN:VCALENDAR
VERSION:2.0
CALSCALE:GREGORIAN
PRODID:-//Diputació de Barcelona//DibaCMS//EN
BEGIN:VEVENT
UID:24173
DTSTAMP:20260422T090240
DTSTART:20120508T190000
DTEND:20120508T190000
SUMMARY:Xerrada: Reinventar-se en temps de crisi
LOCATION:
METHOD:PUBLISH
X-WR-CALNAME:e-seu@ajpiera.cat
X-WR-TIMEZONE:Europe/Madrid
DESCRIPTION:Xerrada: Reinventar-se en temps de crisi

URI:https://www.viladepiera.cat/actualitat/agenda/xerrada-reinventar-se-en-temps-de-crisi.html
CLASS:PUBLIC
END:VEVENT
END:VCALENDAR
