BEGIN:VCALENDAR
VERSION:2.0
CALSCALE:GREGORIAN
PRODID:-//Diputació de Barcelona//DibaCMS//EN
BEGIN:VEVENT
UID:24182
DTSTAMP:20260422T044534
DTSTART:20120511T210000
DTEND:20120511T000000
SUMMARY:Partit d'hoquei patins
LOCATION:
METHOD:PUBLISH
X-WR-CALNAME:e-seu@ajpiera.cat
X-WR-TIMEZONE:Europe/Madrid
DESCRIPTION:Partit d'hoquei patins
URI:https://www.viladepiera.cat/actualitat/agenda/partit-dhoquei-patins.html
CLASS:PUBLIC
END:VEVENT
END:VCALENDAR
