BEGIN:VCALENDAR
VERSION:2.0
CALSCALE:GREGORIAN
PRODID:-//Diputació de Barcelona//DibaCMS//EN
BEGIN:VEVENT
UID:24185
DTSTAMP:20260422T023533
DTSTART:20120512T000000
DTEND:20120513T000000
SUMMARY:Tornejos de pàdel (Club Tennis Can Bonastre)
LOCATION:
METHOD:PUBLISH
X-WR-CALNAME:e-seu@ajpiera.cat
X-WR-TIMEZONE:Europe/Madrid
DESCRIPTION:Tornejos de pàdel (Club Tennis Can Bonastre)

URI:https://www.viladepiera.cat/actualitat/agenda/tornejos-de-padel-club-tennis-can-bonastre.html
CLASS:PUBLIC
END:VEVENT
END:VCALENDAR
