BEGIN:VCALENDAR
VERSION:2.0
CALSCALE:GREGORIAN
PRODID:-//Diputació de Barcelona//DibaCMS//EN
BEGIN:VEVENT
UID:24187
DTSTAMP:20260422T091429
DTSTART:20120513T073000
DTEND:20120513T073000
SUMMARY:XIII Caminada popular de l'Anoia
LOCATION:
METHOD:PUBLISH
X-WR-CALNAME:e-seu@ajpiera.cat
X-WR-TIMEZONE:Europe/Madrid
DESCRIPTION:XIII Caminada popular de l'Anoia

URI:https://www.viladepiera.cat/actualitat/agenda/xiii-caminada-popular-de-lanoia.html
CLASS:PUBLIC
END:VEVENT
END:VCALENDAR
