BEGIN:VCALENDAR
VERSION:2.0
CALSCALE:GREGORIAN
PRODID:-//Diputació de Barcelona//DibaCMS//EN
BEGIN:VEVENT
UID:24190
DTSTAMP:20260422T062850
DTSTART:20120516T070000
DTEND:20120516T180000
SUMMARY:Tall d'aigua: Can Claramunt
LOCATION:
METHOD:PUBLISH
X-WR-CALNAME:e-seu@ajpiera.cat
X-WR-TIMEZONE:Europe/Madrid
DESCRIPTION:Tall d'aigua: Can Claramunt
URI:https://www.viladepiera.cat/actualitat/agenda/tall-daigua-can-claramunt.html
CLASS:PUBLIC
END:VEVENT
END:VCALENDAR
